BEGIN:VCALENDAR
VERSION:2.0
PRODID:Events Booking
BEGIN:VEVENT
UID:69ec339143024
SUMMARY:Agenda 21 - Neujahrstreffen 
DESCRIPTION:Vernetzungstreffen der Nachhaltigkeitsinitiativen im Landkreis 
 Fürstenfeldbruck&nbsp\;
 &nbsp\;
DTSTART:20260120T180000Z
DTEND:20260120T203000Z
DTSTAMP:20251112T060231Z
ORGANIZER;CN=Erlebnisraum Landwirtschaft:MAILTO:post@erlebnisraum-ffb.de
END:VEVENT
END:VCALENDAR