BEGIN:VCALENDAR
VERSION:2.0
PRODID:Events Booking
BEGIN:VEVENT
UID:69e8ab2d8a43b
SUMMARY:Fermentierkurs (Details folgen) 
DESCRIPTION:Referentin: Christine Weiß
 &nbsp\;
 Veranstaltungsort: Erle
 bnisraum Landwirtschaft\, Ernährung und NaturAbt-Thoma-Straße 182256 Fü
 rstenfeldbruck
LOCATION:Abt-Thoma-Straße 1\, Fürstenfeldbruck\, 82256\,
DTSTART:20260924T160000Z
DTEND:20260924T183000Z
DTSTAMP:20260421T045016Z
ORGANIZER;CN=Erlebnisraum Landwirtschaft:MAILTO:post@erlebnisraum-ffb.de
GEO:48.187843;11.220376
X-APPLE-STRUCTURED-LOCATION;VALUE=URI;X-ADDRESS=Abt-Thoma-Straße 1\, Fürs
 tenfeldbruck\, 82256\,;X-APPLE-RADIUS=72;X-TITLE=Erlebnisraum Landwirtscha
 ft\, Ernährung und Natur - Abt-Thoma-Str. 1\, 82256 Fürstenfeldbruck:48.
 187843;11.220376
END:VEVENT
END:VCALENDAR