BEGIN:VCALENDAR
VERSION:2.0
PRODID:Events Booking
BEGIN:VEVENT
UID:69e8d415a311f
SUMMARY:Einladung zum Kochkurs (Details folgen)
DESCRIPTION:Die Teilnahme ist kostenfrei.
 Referentin: Christine Weiß
 V
 eranstalter: Ernährungsrat für den Landkreis Fürstenfeldbruck&nbsp\;
 
 Veranstaltungsort: Erlebnisraum Landwirtschaft\, Ernährung und NaturAbt-T
 homa-Straße 182256 Fürstenfeldbruck
LOCATION:Abt-Thoma-Straße 1\, Fürstenfeldbruck\, 82256\,
DTSTART:20260726T080000Z
DTEND:20260726T110000Z
DTSTAMP:20260421T044459Z
ORGANIZER;CN=Erlebnisraum Landwirtschaft:MAILTO:post@erlebnisraum-ffb.de
GEO:48.187843;11.220376
X-APPLE-STRUCTURED-LOCATION;VALUE=URI;X-ADDRESS=Abt-Thoma-Straße 1\, Fürs
 tenfeldbruck\, 82256\,;X-APPLE-RADIUS=72;X-TITLE=Erlebnisraum Landwirtscha
 ft\, Ernährung und Natur - Abt-Thoma-Str. 1\, 82256 Fürstenfeldbruck:48.
 187843;11.220376
END:VEVENT
END:VCALENDAR