BEGIN:VCALENDAR
VERSION:2.0
PRODID:Events Booking
BEGIN:VEVENT
UID:69e8d415b4831
SUMMARY:Einladung zum Kochkurs (Details folgen) 
DESCRIPTION:Die Teilnahme ist kostenfrei.
 Referentin: Claudia Rummel
 Ve
 ranstalter: Ernährungsrat für den Landkreis Fürstenfeldbruck&nbsp\;
 V
 eranstaltungsort: Erlebnisraum Landwirtschaft\, Ernährung und NaturAbt-Th
 oma-Straße 182256 Fürstenfeldbruck
LOCATION:Abt-Thoma-Straße 1\, Fürstenfeldbruck\, 82256\,
DTSTART:20260621T080000Z
DTEND:20260621T110000Z
DTSTAMP:20260421T044114Z
ORGANIZER;CN=Erlebnisraum Landwirtschaft:MAILTO:post@erlebnisraum-ffb.de
GEO:48.187843;11.220376
X-APPLE-STRUCTURED-LOCATION;VALUE=URI;X-ADDRESS=Abt-Thoma-Straße 1\, Fürs
 tenfeldbruck\, 82256\,;X-APPLE-RADIUS=72;X-TITLE=Erlebnisraum Landwirtscha
 ft\, Ernährung und Natur - Abt-Thoma-Str. 1\, 82256 Fürstenfeldbruck:48.
 187843;11.220376
END:VEVENT
END:VCALENDAR